BEGIN:VCALENDAR
VERSION:2.0
PRODID:-//Library Market//iCal Export//EN
BEGIN:VEVENT
SUMMARY:Magic Show: Wes Iseli &amp; Party Magic
UID:9348
DTSTAMP:20260424T195300Z
DTSTART:20260609T223000Z
DTEND:20260609T233000Z
LOCATION:301 Grove St, Lynchburg, VA 24501, United States
ROOM: Miller Center Theatre -Room 205
DESCRIPTION:We&#039;re kicking off our Summer Reading Program in a magical
  way!Join us for The Magic of Reading, an interactive magic show that cele
 brates books, imagination, and the joy of reading. This program encourages
  children to explore libraries, develop a love of stories, and see reading
  as an adventure.Wes Iseli’s magic shows are fast-paced, with lots of su
 rprises! Loaded with audience participation, comedy routines, and animal e
 ffects, this family-friendly show is fun and appropriate for all ages.For 
 more information on Party Magic, please visit their website: https://wesi
 seli.com/No registration required. Space is limited and is available on a 
 first-come, first served basis.
URL:https://lynchburg.librarycalendar.com/event/magic-show-wes-iseli-party
 -magic-9348
END:VEVENT
END:VCALENDAR
