BEGIN:VCALENDAR
VERSION:2.0
PRODID:-//Library Market//iCal Export//EN
BEGIN:VEVENT
SUMMARY:Adapted Programming
UID:9378
DTSTAMP:20260426T041500Z
DTSTART:20260505T150000Z
DTEND:20260505T163000Z
LOCATION:301 Grove St, Lynchburg, VA 24501, United States
ROOM: Miller Center Room 306
DESCRIPTION:Our monthly Adaptive Adult Program is a time for adults of all
  ages to come together in a community space for learning, recreation, well
 ness, and social connections.This activity is tailored to serve adults wit
 h developmental and intellectual disabilities. 
URL:https://lynchburg.librarycalendar.com/event/copy-adapted-programming-9
 378
END:VEVENT
END:VCALENDAR
