BEGIN:VCALENDAR
VERSION:2.0
PRODID:-//Library Market//iCal Export//EN
BEGIN:VEVENT
SUMMARY:Summer Lunch Program
UID:9429
DTSTAMP:20260423T104800Z
DTSTART:20260722T150000Z
DTEND:20260722T170000Z
LOCATION:Lynchburg Public Library, 301 Grove St, Lynchburg, VA 24501, Unit
 ed States
ROOM: Miller Center Room 304
DESCRIPTION:Summer Lunch (provided by Lynchburg City Schools) is returning
  to the Library Hubs at the Miller Center! A free lunch for kids ages 18 a
 nd younger will be served on Mondays and Wednesdays from 11:00 AM-1:00 PM.
 Lynchburg City Schools is participating in the Summer Food Service Program
 . Meals will be provided to all children without charge and are the same f
 or all children regardless of race, color, national origin, sex (including
  gender identity and sexual orientation), disability or age, and there wil
 l be no discrimination in the course of the meal service.This institution 
 is an equal opportunity provider.
URL:https://lynchburg.librarycalendar.com/event/summer-lunch-program-9429
END:VEVENT
END:VCALENDAR
